BEGIN:VCALENDAR
VERSION:2.0
PRODID:-//wp-events-plugin.com//7.2.3.1//EN
TZID:Europe/Rome
X-WR-TIMEZONE:Europe/Rome
BEGIN:VEVENT
UID:44@findelivery.eu
DTSTART;TZID=Europe/Rome:20211221T120000
DTEND;TZID=Europe/Rome:20211221T130000
DTSTAMP:20221108T130510Z
URL:https://findelivery.eu/finacademy/cacciatori-di-unicorni-gtv/
SUMMARY:Cacciatori di Unicorni: come investire nei futuri unicorni internaz
 ionali
DESCRIPTION:\nLive Zoom webinar\n\n\n\n\n&nbsp\;\n\nGlobal Tech Ventures (G
 TV) è una Holding di partecipazioni dedicata a co-investimenti nelle più
  promettenti aziende tecnologiche e digitali a livello globale.\n\nGrazie 
 alle solide collaborazioni costruite negli anni con i principali Fondi di 
 Venture Capital americani ed europei\, GTV ha accesso ad opportunità di i
 nvestimento uniche nel panorama del Digital e del Tech su scala globale. G
 TV ha il diritto di co-investire a condizioni privilegiate ovvero allineat
 e a quelle dei fondi che guidano i singoli round.\n\nDurante il webinar sc
 opriremo di più sulla strategia adottata da GTV\, che seleziona aziende m
 ature e consolidate con un obiettivo di uscita per ogni singolo investimen
 to entro massimo di 5 anni attraverso la quotazione in Borsa dell'azienda 
 investita o il mercato secondario. GTV si propone di raddoppiare il capita
 le investito entro 5 anni rimborsando i soci investitori ogni volta che un
 a partecipazione viene ceduta. Ad oggi\, GTV ha completato gli investiment
 i del primo club deal\, GTV1\, investendo 13 milioni di dollari\, raccolti
  da investitori privati e Family Office\, in 22 società: Di queste\, nei 
 primi 18 mesi\, ben 4 sono in exit\, con risultati in linea con le attese.
  GTV1 ha già rimborsato l’11% dei capitali investiti\,\n\nA luglio è p
 artita la raccolta del secondo veicolo\, GTV-2\, con lo stesso obiettivo e
  profilo di GTV-1. A fine novembre il veicolo ha già raccolto oltre 5m di
  USD e investito in 3 società.  La raccolta si concluderà all’inizio 
 del 2022\n\nVuoi scoprire di più? Iscriviti subito al nostro webinar grat
 uito!\n\n\n\n
ATTACH;FMTTYPE=image/jpeg:https://findelivery.eu/wp-content/uploads/2021/1
 2/Risorsa-4.png
CATEGORIES:Economia Reale PMI Italiane,Finanza per economia reale
LOCATION:\, \, 
X-APPLE-STRUCTURED-LOCATION;VALUE=URI;X-ADDRESS=\, ;X-APPLE-RADIUS=100;X-TI
 TLE=:geo:0,0
END:VEVENT
BEGIN:VTIMEZONE
TZID:Europe/Rome
X-LIC-LOCATION:Europe/Rome
BEGIN:STANDARD
DTSTART:20211031T020000
TZOFFSETFROM:+0200
TZOFFSETTO:+0100
TZNAME:CET
END:STANDARD
END:VTIMEZONE
END:VCALENDAR