BEGIN:VCALENDAR
VERSION:2.0
PRODID:-//wp-events-plugin.com//7.2.3.1//EN
TZID:Europe/Rome
X-WR-TIMEZONE:Europe/Rome
BEGIN:VEVENT
UID:43@findelivery.eu
DTSTART;TZID=Europe/Rome:20211215T180000
DTEND;TZID=Europe/Rome:20211215T190000
DTSTAMP:20221028T093443Z
URL:https://findelivery.eu/finacademy/forever-bambu-green-economy/
SUMMARY:Forever Bambù - La green economy in Italia
DESCRIPTION:Forever Bambù - L'investimento sostenibile e made in Italy che
  garantisce una rendita per 100 anni e un vantaggio IRPEF immediato del 30
 %
ATTACH;FMTTYPE=image/jpeg:https://findelivery.eu/wp-content/uploads/2021/1
 2/WEBINAR-bamboo_Tavola-disegno-1-copia-2.jpg
CATEGORIES:Economia Reale PMI Italiane,ESG - Investimenti sociali e
 sostenibili,Investimenti PIR Compliant,Video in evidenza
LOCATION:https://zoom.us/j/98368267437
END:VEVENT
BEGIN:VTIMEZONE
TZID:Europe/Rome
X-LIC-LOCATION:Europe/Rome
BEGIN:STANDARD
DTSTART:20211031T020000
TZOFFSETFROM:+0200
TZOFFSETTO:+0100
TZNAME:CET
END:STANDARD
END:VTIMEZONE
END:VCALENDAR