BEGIN:VCALENDAR
VERSION:2.0
PRODID:-//wp-events-plugin.com//7.2.3.1//EN
TZID:Europe/Rome
X-WR-TIMEZONE:Europe/Rome
BEGIN:VEVENT
UID:107@findelivery.eu
DTSTART;TZID=Europe/Rome:20240925T160000
DTEND;TZID=Europe/Rome:20240925T180000
DTSTAMP:20240930T084725Z
URL:https://findelivery.eu/finacademy/guardare-oltre-la-fondazione-come-cr
 eazione-del-valore-dimpresa/
SUMMARY:Guardare Oltre - La Fondazione come creazione del valore d'impresa
DESCRIPTION:Il convegno\, dedicato all'Ordine degli Avvocati di Bergamo\, 
 è organizzato dalla Fondazione Anna e Marco - ETS\, realtà non profit is
 critta al Runts e a controllo di aziende innovative\, tra cui Findelivery 
 e L'Altro Testamento (servizio di videodeposito a supporto e a conferma di
  ogni volontà e disposizione).\n\nRELATORE\nProf. Alessandro Morini - Avv
 ocato\, Professore Associato in Diritto Commerciale presso l'Università d
 i\nBergamo\n\nInterventi:\nAvv. Mauro Rotunno - vicepresidente Fondazione 
 Anna e Marco - ETS\nDott. Andrea Sirtori - Direttore Generale L'Altro Test
 amento srl\n\n&nbsp\;\n\nSCALETTA WEBINAR\n1. "Give back": tra atto di lib
 eralità e successione anticipata\n2. La costituzione di fondazione in vit
 a e post mortem: identità e differenze\n3. La fondazione: scelta dello sc
 opo e analisi dello strumento (un caso concreto)\n4. Scopo e perseguimento
  effettivo degli scopi: dotazione iniziale e successiva\n5. Fondazione e o
  senza impresa: governance\n6. La governance della fondazione dopo la succ
 essione del fondatore\n\n&nbsp\;
ATTACH;FMTTYPE=image/jpeg:https://findelivery.eu/wp-content/uploads/2024/0
 9/Corso-ordine-avvocati-BG-250924_rev2.jpg
CATEGORIES:Anna &amp; Marco,Formazione,Premium
LOCATION:CENTRO CONGRESSI GIOVANNI XXIII\, Viale Papa Giovanni XXIII\, 106\
 , Bergamo\, BG\, 24121\, Italia
X-APPLE-STRUCTURED-LOCATION;VALUE=URI;X-ADDRESS=Viale Papa Giovanni XXIII\,
  106\, Bergamo\, BG\, 24121\, Italia;X-APPLE-RADIUS=100;X-TITLE=CENTRO CON
 GRESSI GIOVANNI XXIII:geo:0,0
END:VEVENT
BEGIN:VTIMEZONE
TZID:Europe/Rome
X-LIC-LOCATION:Europe/Rome
BEGIN:DAYLIGHT
DTSTART:20240331T030000
TZOFFSETFROM:+0100
TZOFFSETTO:+0200
TZNAME:CEST
END:DAYLIGHT
END:VTIMEZONE
END:VCALENDAR