BEGIN:VCALENDAR
VERSION:2.0
PRODID:-//wp-events-plugin.com//7.2.3.1//EN
TZID:Europe/Rome
X-WR-TIMEZONE:Europe/Rome
BEGIN:VEVENT
UID:122@findelivery.eu
DTSTART;TZID=Europe/Rome:20250523T163000
DTEND;TZID=Europe/Rome:20250523T183000
DTSTAMP:20250527T113959Z
URL:https://findelivery.eu/finacademy/il-crowdfunding-immobiliare-innovazi
 one-e-accessibilita-nel-real-estate/
SUMMARY:Il Crowdfunding Immobiliare: innovazione e accessibilità nel Real 
 Estate
DESCRIPTION:In corso di accreditamento presso il Consiglio Nazionale Forens
 e\n\n&nbsp\;\nNuove opportunità per investire nel mattone\nProgramma\n\n 
 	La disciplina europea del crowdinvesting e il suo recepimento nel TUF\n 	
 Investimento in valori mobiliari\, strumenti finanziari equiparati e prest
 iti peer to peer\n 	Gli intermediari finanziari coinvolti e i servizi di p
 agamento\n 	Requisiti patrimoniali\, norme di organizzazione e compliance\
 n 	Le diverse modalità di tassazione: tra equity e lending crowdfunding\n
  	Le varie tipologie di proventi: dividenti \,interessi e plusvalenze\n 	V
 antaggi fiscali e agevolazioni\n\n&nbsp\;\n\nSlide Mosconi  Slide Gallo
ATTACH;FMTTYPE=image/jpeg:https://findelivery.eu/wp-content/uploads/2025/0
 5/Cover-Evento-230525.jpg
CATEGORIES:Anna &amp; Marco,Crowdfunding,Economia Reale
 Immobiliare,Formazione,Video,Video in evidenza
LOCATION:https://us06web.zoom.us/j/84192220162?pwd=nNFcqvIr4MLN6aXktlQpaIM7
 pcsOjN.1
END:VEVENT
BEGIN:VTIMEZONE
TZID:Europe/Rome
X-LIC-LOCATION:Europe/Rome
BEGIN:DAYLIGHT
DTSTART:20250330T030000
TZOFFSETFROM:+0100
TZOFFSETTO:+0200
TZNAME:CEST
END:DAYLIGHT
END:VTIMEZONE
END:VCALENDAR