BEGIN:VCALENDAR
VERSION:2.0
PRODID:-//wp-events-plugin.com//7.2.3.1//EN
TZID:Europe/Rome
X-WR-TIMEZONE:Europe/Rome
BEGIN:VEVENT
UID:99@findelivery.eu
DTSTART;TZID=Europe/Rome:20240226T150000
DTEND;TZID=Europe/Rome:20240226T180000
DTSTAMP:20240302T090957Z
URL:https://findelivery.eu/finacademy/il-pir-alternativo-normativa-profili
 -fiscali-e-aspetti-operativi/
SUMMARY:Il PIR alternativo - Normativa\, profili fiscali e aspetti operativ
 i
DESCRIPTION:Evento organizzato da Ordine e Fondazione dei Commercialisti di
  Monza e Brianza\nIl PIR ALTERNATIVO è il più efficiente contenitore amm
 inistrativo e fiscale per poter investire direttamente nell’economia rea
 le italiana delle PMI\, in particolar modo di quelle non quotate\, attrave
 rso strumenti quali i CLUB DEAL\, gli AUMENTI DI CAPITALI SPECIALI e i MIN
 I BOND. Si tratta da una parte di uno strumento di ottimizzazione fiscale 
 per l’investitore e dall’altra di uno strumento di fundraising per l
 ’imprenditore al fine di sostenere la crescita aziendale e i nuovi proge
 tti.\n\nNel corso dell’evento verranno approfonditi gli aspetti normativ
 i e regolamentari del PIR ALTERNATIVO e gli aspetti operativi\, attraverso
 \nlo studio di casi pratici presentati da Fiduciaria Digitale nella sua es
 perienza di questi ultimi tre anni.\n\nL'evento si è tenuto lunedì 26 fe
 bbraio p.v. dalle 15.00 alle 18.00 presso le sale convegni della Fondazio
 ne dei Commercialisti di Monza e Brianza\, in via Lario 15 a Monza.\n\n
ATTACH;FMTTYPE=image/jpeg:https://findelivery.eu/wp-content/uploads/2024/0
 2/Cover-webinar-PIR-260224.png
CATEGORIES:Formazione,Premium
LOCATION:Sala Convegni Fondazione dei Commercialisti di Monza e Brianza\, v
 ia Lario 15\, Monza\, MB\, 20900\, Italia
X-APPLE-STRUCTURED-LOCATION;VALUE=URI;X-ADDRESS=via Lario 15\, Monza\, MB\,
  20900\, Italia;X-APPLE-RADIUS=100;X-TITLE=Sala Convegni Fondazione dei Co
 mmercialisti di Monza e Brianza:geo:0,0
END:VEVENT
BEGIN:VTIMEZONE
TZID:Europe/Rome
X-LIC-LOCATION:Europe/Rome
BEGIN:STANDARD
DTSTART:20231029T020000
TZOFFSETFROM:+0200
TZOFFSETTO:+0100
TZNAME:CET
END:STANDARD
END:VTIMEZONE
END:VCALENDAR