BEGIN:VCALENDAR
VERSION:2.0
PRODID:-//wp-events-plugin.com//7.2.3.1//EN
TZID:Europe/Rome
X-WR-TIMEZONE:Europe/Rome
BEGIN:VEVENT
UID:98@findelivery.eu
DTSTART;TZID=Europe/Rome:20240208T110000
DTEND;TZID=Europe/Rome:20240208T120000
DTSTAMP:20240212T131157Z
URL:https://findelivery.eu/finacademy/investire-nel-real-estate-le-propost
 e-del-gruppo-yeldo/
SUMMARY:Investire nel Real Estate: le proposte del Gruppo YELDO
DESCRIPTION:Gli investimenti alternativi giocano un ruolo fondamentale nel 
 fornire diversificazione ai portafogli degli investitori: inserire una quo
 ta di investimenti nel settore immobiliare può infatti stabilizzare i ren
 dimenti\, diminuire la volatilità e offrire maggiore resilienza ad un por
 tafoglio di investimento\, come dimostrato da diversi grandi investitori i
 stituzionali che hanno incrementato le loro allocazioni in asset alternati
 vi.\n\n&nbsp\;\n\nQuali opzioni per gli investitori privati? Il Gruppo YEL
 DO (www.yeldo.com) offre accesso diretto e digitale a proposte di investi
 mento immobiliari altamente selezionate. Nel corso del webinar verranno pr
 esentate tre nuove operazioni: una riservata a investitori professionali\,
  e due disponibili per investimenti a partire da 10.000 euro su www.yeldoc
 rowd.com.
ATTACH;FMTTYPE=image/jpeg:https://findelivery.eu/wp-content/uploads/2024/0
 1/Webinar-Fiduciaria-Digitale-Febbraio-2024.png
CATEGORIES:Economia Reale Immobiliare,Investimenti PIR Compliant,Video in
 evidenza
LOCATION:\, \, 
X-APPLE-STRUCTURED-LOCATION;VALUE=URI;X-ADDRESS=\, ;X-APPLE-RADIUS=100;X-TI
 TLE=:geo:0,0
END:VEVENT
BEGIN:VTIMEZONE
TZID:Europe/Rome
X-LIC-LOCATION:Europe/Rome
BEGIN:STANDARD
DTSTART:20231029T020000
TZOFFSETFROM:+0200
TZOFFSETTO:+0100
TZNAME:CET
END:STANDARD
END:VTIMEZONE
END:VCALENDAR