BEGIN:VCALENDAR
VERSION:2.0
PRODID:-//wp-events-plugin.com//7.2.3.1//EN
TZID:Europe/Rome
X-WR-TIMEZONE:Europe/Rome
BEGIN:VEVENT
UID:112@findelivery.eu
DTSTART;TZID=Europe/Rome:20241216T160000
DTEND;TZID=Europe/Rome:20241216T180000
DTSTAMP:20241224T085458Z
URL:https://findelivery.eu/finacademy/le-attribuzioni-a-titolo-donativo-e-
 testamentario-di-immobili/
SUMMARY:Le attribuzioni a titolo donativo e testamentario di immobili
DESCRIPTION:Le attribuzioni a titolo donativo e testamentario di immobili\n
 Con attenzione particolare a quelle in favore di enti del terzo settore\n&
 nbsp\;\nMateriale del corso\nSlides avvocato Rotunno\n\nSlides Notaio Divi
 zia\n\nSlides Presentazione L'Altro Testamento\n\n&nbsp\;\nProgramma\n\n 	
 Modalità con le quali si pongono in essere donazioni avente ad oggetto co
 mpendi immobiliari\n 	Donazioni immobiliari a associazione e enti non Prof
 it con particolare riguardo alle donazioni che ledono la quota riservata a
 i legittimari\n 	Le donazioni contenute in disposizioni testamentarie\; ca
 si di nullità\, annullabilità e revocabilità –\n 	Introduzione ai tem
 i delle Fondazioni non profit ETS che detengono immobili e partecipazioni 
 di società profit: il caso della Fondazione Anna e Marco\n 	Come effettua
 re una donazione o un lascito testamentario in favore di ente del terzo se
 ttore\, la procedura di accettazione e gli aspetti fiscali\n 	Conclusioni 
 e informativa sul testamento digitale a supporto e conferma delle donazion
 i: il caso pratico de L’Altro Testamento\n\n&nbsp\;\n\n&nbsp\;\n\nSegnal
 ato al Consiglio Nazionale dei Dottori Commercialisti e degli Esperti Cont
 abili per l’attribuzione di n. 2 crediti formativi.\n\nAccreditato dall'
 Ordine Architetti P.P.C. di Bergamo al riconoscimento di n. 2 cfp\n\nAccre
 ditato dall'Ordine degli Ingegneri della Provincia di Bergamo. Agli Ingegn
 eri partecipanti saranno riconosciuti 2 CFP a singolo seminario\; si ricor
 da che ai fini del rilascio dei CFP è obbligatoria la presenza al 100% de
 lla durata del singolo Seminario\n\nCon il patrocinio del Collegio Geometr
 i e Geometri Laureati della Provincia di Bergamo. Per gli iscritti all’A
 lbo\, la partecipazione all’evento riconoscerà l’assegnazione di due 
 crediti formativi professionali.
ATTACH;FMTTYPE=image/jpeg:https://findelivery.eu/wp-content/uploads/2024/1
 1/Tavola-da-disegno-2.png
CATEGORIES:Anna &amp; Marco,Formazione,Premium
LOCATION:CENTRO CONGRESSI GIOVANNI XXIII\, Viale Papa Giovanni XXIII\, 106\
 , Bergamo\, BG\, 24121\, Italia
X-APPLE-STRUCTURED-LOCATION;VALUE=URI;X-ADDRESS=Viale Papa Giovanni XXIII\,
  106\, Bergamo\, BG\, 24121\, Italia;X-APPLE-RADIUS=100;X-TITLE=CENTRO CON
 GRESSI GIOVANNI XXIII:geo:0,0
END:VEVENT
BEGIN:VTIMEZONE
TZID:Europe/Rome
X-LIC-LOCATION:Europe/Rome
BEGIN:STANDARD
DTSTART:20241027T020000
TZOFFSETFROM:+0200
TZOFFSETTO:+0100
TZNAME:CET
END:STANDARD
END:VTIMEZONE
END:VCALENDAR