BEGIN:VCALENDAR
VERSION:2.0
PRODID:-//wp-events-plugin.com//7.2.3.1//EN
TZID:Europe/Rome
X-WR-TIMEZONE:Europe/Rome
BEGIN:VEVENT
UID:88@findelivery.eu
DTSTART;TZID=Europe/Rome:20231024T110000
DTEND;TZID=Europe/Rome:20231024T120000
DTSTAMP:20260424T155454Z
URL:
SUMMARY:Monza\, via Blandoria: Investire nel Real Estate crowdfunding con Y
 ELDO CROWD
DESCRIPTION:Dopo il successo delle ultime campagne\, il Gruppo YELDO (www.
 yeldo.com) riparte con nuove proposte di investimento in grado di offrire 
 agli investitori la possibilità di diversificare gli investimenti e massi
 mizzare i rendimenti attraverso operazioni immobiliari altamente seleziona
 te.\n\nNel corso del webinar verrà illustrata l'operazione di Monza\, Via
  Blandoria: un interessante sviluppo residenziale disponibile per investim
 enti a partire da 10.000 euro su www.yeldocrowd.com.
LOCATION:studiogiunta.mg@gmail.com\, \, 
X-APPLE-STRUCTURED-LOCATION;VALUE=URI;X-ADDRESS=\, ;X-APPLE-RADIUS=100;X-TI
 TLE=studiogiunta.mg@gmail.com:geo:0,0
END:VEVENT
BEGIN:VTIMEZONE
TZID:Europe/Rome
X-LIC-LOCATION:Europe/Rome
BEGIN:DAYLIGHT
DTSTART:20230326T030000
TZOFFSETFROM:+0100
TZOFFSETTO:+0200
TZNAME:CEST
END:DAYLIGHT
END:VTIMEZONE
END:VCALENDAR