BEGIN:VCALENDAR
VERSION:2.0
PRODID:-//wp-events-plugin.com//7.2.3.1//EN
TZID:Europe/Rome
X-WR-TIMEZONE:Europe/Rome
BEGIN:VEVENT
UID:121@findelivery.eu
DTSTART;TZID=Europe/Rome:20250515T163000
DTEND;TZID=Europe/Rome:20250515T183000
DTSTAMP:20250530T080016Z
URL:https://findelivery.eu/finacademy/npl-e-secondary-market-directive-nuo
 ve-opportunita-e-scenari-per-professionisti-e-operatori-del-credito/
SUMMARY:NPL e Secondary Market Directive: nuove opportunità e scenari per 
 professionisti e operatori del credito
DESCRIPTION:La Secondary Market Directive ha rivoluzionato il mercato dei c
 rediti in sofferenza\, introducendo la nuova figura dell’ “Acquirente 
 di crediti in sofferenza” – scopri cosa cambia\, chi può operare e co
 me farlo correttamente.\n\n&nbsp\;\n\n&nbsp\;\n\nProgramma\n\n 	Introduzio
 ne ai Non-Performing Loans\;\n 	Direttiva UE 2021/2167: la c.d. “Seconda
 ry Market Directive”\;\n 	Recepimento nel TUB\;\n 	Gli intermediari fina
 nziari coinvolti.\n 	Le fasi del processo di acquisto e di gestione dei No
 n-Performing Loans: Scouting\; Screening\; Due Diligence\; Closing\; Recov
 ery\n 	Case History – Davis &amp\; Morgan S.p.A.\, intermediario finanzi
 ario indipendente\n\n&nbsp\;\n\nSlides webinar 
ATTACH;FMTTYPE=image/jpeg:https://findelivery.eu/wp-content/uploads/2025/0
 5/Cover-Evento.png
CATEGORIES:Anna &amp; Marco,Economia Reale Immobiliare,Video,Video in
 evidenza,Webinar
END:VEVENT
BEGIN:VTIMEZONE
TZID:Europe/Rome
X-LIC-LOCATION:Europe/Rome
BEGIN:DAYLIGHT
DTSTART:20250330T030000
TZOFFSETFROM:+0100
TZOFFSETTO:+0200
TZNAME:CEST
END:DAYLIGHT
END:VTIMEZONE
END:VCALENDAR