BEGIN:VCALENDAR
VERSION:2.0
PRODID:-//wp-events-plugin.com//7.2.3.1//EN
TZID:Europe/Rome
X-WR-TIMEZONE:Europe/Rome
BEGIN:VEVENT
UID:110@findelivery.eu
DTSTART;TZID=Europe/Rome:20241107T170000
DTEND;TZID=Europe/Rome:20241107T183000
DTSTAMP:20241113T100542Z
URL:https://findelivery.eu/finacademy/organo-controllo-e-revisione-ets/
SUMMARY:L’organo di controllo e la revisione degli Enti del terzo settore
  iscritti al Runts
DESCRIPTION:In corso di accreditamento presso l'Ordine dei dottori commerci
 alisti ed esperti contabili di Pavia\n\nPROGRAMMA\n\n 	Principali caratter
 istiche della normativa D.Lgs. 117/2017\;\n 	Nuovi parametri per l’obbli
 gatorietà di nomina dell’organo di controllo\;\n 	Nuovi limiti per il r
 endiconto di cassa\;\n 	Inquadramento normativo del bilancio degli enti de
 l terzo settore\n\n&nbsp\;\nMateriale del corso\nScarica le slide
ATTACH;FMTTYPE=image/jpeg:https://findelivery.eu/wp-content/uploads/2024/1
 0/Tavola-da-disegno-2-1.jpg
CATEGORIES:Anna &amp; Marco,Commercialisti,Formazione,Premium
END:VEVENT
BEGIN:VTIMEZONE
TZID:Europe/Rome
X-LIC-LOCATION:Europe/Rome
BEGIN:STANDARD
DTSTART:20241027T020000
TZOFFSETFROM:+0200
TZOFFSETTO:+0100
TZNAME:CET
END:STANDARD
END:VTIMEZONE
END:VCALENDAR