BEGIN:VCALENDAR
VERSION:2.0
PRODID:-//wp-events-plugin.com//7.2.3.1//EN
TZID:Europe/Rome
X-WR-TIMEZONE:Europe/Rome
BEGIN:VEVENT
UID:77@findelivery.eu
DTSTART;TZID=Europe/Rome:20221213T110000
DTEND;TZID=Europe/Rome:20221213T120000
DTSTAMP:20221220T185518Z
URL:https://findelivery.eu/finacademy/ottimizzare-e-diversificare-un-inves
 timento-immobiliare/
SUMMARY:Ottimizzare e diversificare un investimento immobiliare
DESCRIPTION:I'MMOBILIARS\, realtà italiana che si occupa formazione ed inv
 estimenti di alto profilo nel settore immobiliare\, presenta il  progetto
  Atlas 100 case\, partito nel mese di Febbraio 2022.\n\nIn particolare\, d
 urante il webinar verrà presentato l'attuale stato di avanzamento dei lav
 ori\, per mostrare come si sta evolvendo questa modalità di investimento 
 completamento innovativa che porta non soltanto valore agli investitori\, 
 ma dove viene trattato anche un aspetto sociale molto importante che ha l'
 obiettivo di aiutare molti esecutati grazie alle varie tecniche utilizzate
 \, 6 exit strategy\, aspetto che verrà trattato durante il webinar.\n\nIl
  programma è oggi già in fase avanzata: il management di I'MMOBILIARS ci
  mostrerà dall'interno cosa sta facendo in questo momento\, come sta lavo
 rando e come sta portando valore agli investitori e alle persone coinvolte
 .\n\nIl progetto 100 Case è un sistema rivoluzionario\, già visibile dal
 la stesura del business plan\, la sfida è che lo sia anche per l'intero s
 istema dei crediti deteriorati.\n\nVuoi scoprire di più? Iscriviti ora al
  webinar gratuito!
ATTACH;FMTTYPE=image/jpeg:https://findelivery.eu/wp-content/uploads/2022/1
 2/Webinar_immobiliars_Tavola-disegno-1-copia-4.jpg
CATEGORIES:Economia Reale Immobiliare,Homepage,Video in evidenza
LOCATION:\, \, 
X-APPLE-STRUCTURED-LOCATION;VALUE=URI;X-ADDRESS=\, ;X-APPLE-RADIUS=100;X-TI
 TLE=:geo:0,0
END:VEVENT
BEGIN:VTIMEZONE
TZID:Europe/Rome
X-LIC-LOCATION:Europe/Rome
BEGIN:STANDARD
DTSTART:20221030T020000
TZOFFSETFROM:+0200
TZOFFSETTO:+0100
TZNAME:CET
END:STANDARD
END:VTIMEZONE
END:VCALENDAR