BEGIN:VCALENDAR
VERSION:2.0
PRODID:-//wp-events-plugin.com//7.2.3.1//EN
TZID:Europe/Rome
X-WR-TIMEZONE:Europe/Rome
BEGIN:VEVENT
UID:101@findelivery.eu
DTSTART;TZID=Europe/Rome:20240510T110000
DTEND;TZID=Europe/Rome:20240510T120000
DTSTAMP:20240512T091708Z
URL:https://findelivery.eu/finacademy/politiche-economiche-europee-per-le-
 piccole-e-medie-imprese/
SUMMARY:Politiche economiche europee per le piccole e medie imprese
DESCRIPTION:La sfida della transizione digitale ed ecologica\nCon un mercat
 o interno potenziale di 450 milioni di consumatori\, l’Unione europea è
  uno dei maggiori mercati al mondo e offre grandi opportunità di crescita
  alle imprese italiane di ogni dimensione che vogliono aprirsi e competere
  anche fuori dal nostro paese.\n\nOgni anno l’UE sostiene oltre 200\,000
  imprese attraverso prestiti alle imprese\, microfinanziamenti\, garanzie 
 e capitale di rischio\, ma per sfruttare al meglio queste sfide e queste o
 pportunità servono consulenti evoluti\, che sappiano supportare gli impre
 nditori offrendo lo gli strumenti giusti per competere sul mercato unico\,
  aprirsi al mercato dei capitali\, o per accedere a bandi o linee di finan
 ziamento dedicate\, ma anche per comprendere meglio le normative che regol
 ano l’esportazione di beni e servizi negli altri paesi dell’Unione.\n\
 nDurante questo convegno cercheremo di capire meglio quali siano le opport
 unità offerte dall’UE e le sfide verso una transizione digitale ed ecol
 ogica\nper le piccole e medie imprese\, e quali siano le istanze che la co
 munità imprenditoriale vuole portare all’attenzione delle istituzioni e
 uropee.\n
ATTACH;FMTTYPE=image/jpeg:https://findelivery.eu/wp-content/uploads/2024/0
 5/Cover-webinar_Misiani-Maran.png
CATEGORIES:Formazione,Premium
LOCATION:\, \, 
X-APPLE-STRUCTURED-LOCATION;VALUE=URI;X-ADDRESS=\, ;X-APPLE-RADIUS=100;X-TI
 TLE=:geo:0,0
END:VEVENT
BEGIN:VTIMEZONE
TZID:Europe/Rome
X-LIC-LOCATION:Europe/Rome
BEGIN:DAYLIGHT
DTSTART:20240331T030000
TZOFFSETFROM:+0100
TZOFFSETTO:+0200
TZNAME:CEST
END:DAYLIGHT
END:VTIMEZONE
END:VCALENDAR